BEGIN:VCALENDAR
VERSION:2.0
PRODID:-//eventon.com NONSGML v1.0//EN
CALSCALE:GREGORIAN
METHOD:PUBLISH
BEGIN:VEVENT
UID:69ea04ca05899
DTSTAMP:20260423T113850Z
DTSTART:20260429T180000Z
DTEND:20260429T190000Z
LOCATION:
SUMMARY:The Hidden Drivers of Business Value: 5 Factors That Impact the Market
DESCRIPTION:Some drivers of business valuations are obvious\,  while others
  sit quietly beneath the surface. Every seasoned dealmaker has a story: the
  business that wasn’t worth what the owner believed\,  the hidden risk th
 at tanked buyer confidence\,  the moment you realized the value drivers did
 n’t match the narrative. These surprises have[..]\nhttps://www.cvbba.com/
 events/the-hidden-drivers-of-business-value-5-factors-that-impact-the-marke
 t/
URL:https://www.cvbba.com/events/the-hidden-drivers-of-business-value-5-factors-that-impact-the-market/
END:VEVENT
END:VCALENDAR