BEGIN:VCALENDAR
VERSION:2.0
PRODID:-//eventon.com NONSGML v1.0//EN
CALSCALE:GREGORIAN
METHOD:PUBLISH
BEGIN:VEVENT
UID:69ea04844fe33
DTSTAMP:20260423T113740Z
DTSTART:20260429T160000Z
DTEND:20260429T180000Z
LOCATION:
SUMMARY:TopGolf Charleston Event
DESCRIPTION:We’re bringing the CVBBA community together in Charleston for
  a high-impact regional event designed for those who are actively shaping d
 eals &#8211; not just talking about them. This isn’t just another network
 ing event. This is where relationships are built\,  deals are sparked\,  an
 d momentum is created. CVBBA Charleston Regional Event[..]\nhttps://www.cvb
 ba.com/events/topgolf-charleston-event/
URL:https://www.cvbba.com/events/topgolf-charleston-event/
END:VEVENT
END:VCALENDAR